BEGIN:VCALENDAR
VERSION:2.0
PRODID:-//Sabre//Sabre VObject 4.5.8//EN
CALSCALE:GREGORIAN
BEGIN:VEVENT
UID:criticalmass-one-laatzen-1722011400
DTSTAMP:20260425T181835Z
SUMMARY:Critical Mass Laatzen 26.07.2024
DTSTART;TZID=Europe/Berlin:20240726T183000
DTEND;TZID=Europe/Berlin:20240726T203000
LOCATION:Ecke Eichstraße / Alte Rathausstraße
GEO:52.314408;9.785814
URL;VALUE=URI:https://criticalmass.in/laatzen/2024-07-26
END:VEVENT
END:VCALENDAR
