BEGIN:VCALENDAR
VERSION:2.0
PRODID:-//Sabre//Sabre VObject 4.5.8//EN
CALSCALE:GREGORIAN
BEGIN:VEVENT
UID:criticalmass-one-la-quinta-1769851800
DTSTAMP:20260422T054000Z
SUMMARY:Alex Pretti Memorial Ride — James Hermes
DESCRIPTION:Meet at 9:30 a.m. on Saturday and roll out at 10\; ride the CV 
 Link from Washington Street access 14 miles down to Airport Blvd in Therma
 l\, then back
DTSTART;TZID=America/Los_Angeles:20260131T013000
DTEND;TZID=America/Los_Angeles:20260131T033000
LOCATION:Washington Street access\, La Quinta
GEO:33.715357;-116.293158
URL;VALUE=URI:https://criticalmass.in/la-quinta/alex-pretti-memorial-ride-l
 a-quinta-2026-01-31
END:VEVENT
END:VCALENDAR
