BEGIN:VCALENDAR
VERSION:2.0
PRODID:-//Sabre//Sabre VObject 4.5.8//EN
CALSCALE:GREGORIAN
BEGIN:VEVENT
UID:criticalmass-one-kusterdingen-1664107200
DTSTAMP:20260424T101512Z
SUMMARY:Kidical Mass Kusterdingen 25.09.2022
DTSTART;TZID=Europe/Berlin:20220925T140000
DTEND;TZID=Europe/Berlin:20220925T160000
LOCATION:Härtenschule\, Mähringen
URL;VALUE=URI:https://criticalmass.in/kusterdingen/kidical-mass-kusterdinge
 n-september-2022
END:VEVENT
END:VCALENDAR
