BEGIN:VCALENDAR
VERSION:2.0
PRODID:-//Sabre//Sabre VObject 4.5.8//EN
CALSCALE:GREGORIAN
BEGIN:VEVENT
UID:criticalmass-one-kusterdingen-1631966400
DTSTAMP:20260422T122531Z
SUMMARY:Kidical Mass Kusterdingen 18.09.2021
DTSTART;TZID=Europe/Berlin:20210918T140000
DTEND;TZID=Europe/Berlin:20210918T160000
LOCATION:Unterführung K6903 B28
URL;VALUE=URI:https://criticalmass.in/kusterdingen/kidical-mass-kusterdinge
 n-september-2021
END:VEVENT
END:VCALENDAR
