BEGIN:VCALENDAR
VERSION:2.0
PRODID:-//Sabre//Sabre VObject 4.5.8//EN
CALSCALE:GREGORIAN
BEGIN:VEVENT
UID:criticalmass-one-kusterdingen-1599912000
DTSTAMP:20260422T163711Z
SUMMARY:Kidical Mass Kusterdingen
DTSTART;TZID=Europe/Berlin:20200912T140000
DTEND;TZID=Europe/Berlin:20200912T160000
LOCATION:Sportplatz Mähringen\n
URL;VALUE=URI:https://criticalmass.in/kusterdingen/kidical-mass-kusterdinge
 n-september-2020
END:VEVENT
END:VCALENDAR
