BEGIN:VCALENDAR
VERSION:2.0
PRODID:-//Sabre//Sabre VObject 4.5.8//EN
CALSCALE:GREGORIAN
BEGIN:VEVENT
UID:criticalmass-one-krefeld-1761930000
DTSTAMP:20260425T152036Z
SUMMARY:Kritical Mass Krefeld 31.10.2025
DTSTART;TZID=Europe/Berlin:20251031T180000
DTEND;TZID=Europe/Berlin:20251031T200000
LOCATION:Vorplatz Nordseite Hauptbahnhof
GEO:51.326388;6.569728
URL;VALUE=URI:https://criticalmass.in/krefeld/2025-10-31
END:VEVENT
END:VCALENDAR
