BEGIN:VCALENDAR
VERSION:2.0
PRODID:-//Sabre//Sabre VObject 4.5.8//EN
CALSCALE:GREGORIAN
BEGIN:VEVENT
UID:criticalmass-one-krefeld-1619791200
DTSTAMP:20260424T120159Z
SUMMARY:Kritical Mass Krefeld 30.04.2021
DTSTART;TZID=Europe/Berlin:20210430T160000
DTEND;TZID=Europe/Berlin:20210430T180000
LOCATION:Vorplatz Nordseite Hauptbahnhof
GEO:51.326388;6.569728
URL;VALUE=URI:https://criticalmass.in/krefeld/2021-04-30
END:VEVENT
END:VCALENDAR
