BEGIN:VCALENDAR
VERSION:2.0
PRODID:-//Sabre//Sabre VObject 4.5.8//EN
CALSCALE:GREGORIAN
BEGIN:VEVENT
UID:criticalmass-one-krefeld-1611939600
DTSTAMP:20260424T192639Z
SUMMARY:Kritical Mass Krefeld 29.01.2021
DTSTART;TZID=Europe/Berlin:20210129T180000
DTEND;TZID=Europe/Berlin:20210129T200000
LOCATION:Vorplatz Nordseite Hauptbahnhof
GEO:51.326388;6.569728
URL;VALUE=URI:https://criticalmass.in/krefeld/2021-01-29
END:VEVENT
END:VCALENDAR
