BEGIN:VCALENDAR
VERSION:2.0
PRODID:-//Sabre//Sabre VObject 4.5.8//EN
CALSCALE:GREGORIAN
BEGIN:VEVENT
UID:criticalmass-one-krefeld-1604070000
DTSTAMP:20260425T001716Z
SUMMARY:Kritical Mass Krefeld 30.10.2020
DTSTART;TZID=Europe/Berlin:20201030T160000
DTEND;TZID=Europe/Berlin:20201030T180000
LOCATION:Vorplatz Nordseite Hauptbahnhof
GEO:51.326388;6.569728
URL;VALUE=URI:https://criticalmass.in/krefeld/2020-10-30
END:VEVENT
END:VCALENDAR
