BEGIN:VCALENDAR
VERSION:2.0
PRODID:-//Sabre//Sabre VObject 4.5.8//EN
CALSCALE:GREGORIAN
BEGIN:VEVENT
UID:criticalmass-one-krefeld-1593188100
DTSTAMP:20260421T143419Z
SUMMARY:Kritical Mass Krefeld 26.06.2020
DESCRIPTION:18 Uhr fahren wir los. Seit also bitte etwas früher am Treffpu
 nkt.
DTSTART;TZID=Europe/Berlin:20200626T181500
DTEND;TZID=Europe/Berlin:20200626T201500
LOCATION:Vorplatz Nordseite Hauptbahnhof
GEO:51.326388;6.569728
URL;VALUE=URI:https://criticalmass.in/krefeld/2020-06-26
END:VEVENT
END:VCALENDAR
