BEGIN:VCALENDAR
VERSION:2.0
PRODID:-//Sabre//Sabre VObject 4.5.8//EN
CALSCALE:GREGORIAN
BEGIN:VEVENT
UID:criticalmass-one-krefeld-1582909200
DTSTAMP:20260424T184004Z
SUMMARY:Kritical Mass Krefeld 28.02.2020
DESCRIPTION:Sollte die Polizei wieder erscheinen und und die Fahrt verweige
 rn wollen\, 'brechen wir ab' und treffen uns dann an einem anderen Ort den
  wir euch dann an dem Tag Vorort kurzfristig mitteilen.
DTSTART;TZID=Europe/Berlin:20200228T180000
DTEND;TZID=Europe/Berlin:20200228T200000
LOCATION:Vorplatz Nordseite Hauptbahnhof
GEO:51.326388;6.569728
URL;VALUE=URI:https://criticalmass.in/krefeld/2020-02-28
END:VEVENT
END:VCALENDAR
