BEGIN:VCALENDAR
VERSION:2.0
PRODID:-//Sabre//Sabre VObject 4.5.8//EN
CALSCALE:GREGORIAN
BEGIN:VEVENT
UID:criticalmass-one-konstanz-1645808400
DTSTAMP:20260426T030523Z
SUMMARY:CM Konstanz 25.02.2022
DTSTART;TZID=Europe/Berlin:20220225T180000
DTEND;TZID=Europe/Berlin:20220225T200000
LOCATION:Herosépark
GEO:47.669830;9.174520
URL;VALUE=URI:https://criticalmass.in/konstanz/2022-02-25
END:VEVENT
END:VCALENDAR
