BEGIN:VCALENDAR
VERSION:2.0
PRODID:-//Sabre//Sabre VObject 4.5.8//EN
CALSCALE:GREGORIAN
BEGIN:VEVENT
UID:criticalmass-one-konigs-wusterhausen-1664110800
DTSTAMP:20260421T015525Z
SUMMARY:Kidical Mass Königs Wusterhausen 25.09.2022
DTSTART;TZID=Europe/Berlin:20220925T150000
DTEND;TZID=Europe/Berlin:20220925T170000
LOCATION:Kirchplatz\, Königs Wusterhausen
URL;VALUE=URI:https://criticalmass.in/konigs-wusterhausen/kidical-mass-koni
 gs-wusterhausen-september-2022
END:VEVENT
END:VCALENDAR
