BEGIN:VCALENDAR
VERSION:2.0
PRODID:-//Sabre//Sabre VObject 4.5.8//EN
CALSCALE:GREGORIAN
BEGIN:VEVENT
UID:criticalmass-one-konigs-wusterhausen-1632056400
DTSTAMP:20260421T051911Z
SUMMARY:Kidical Mass Königs Wusterhausen 19.09.2021
DTSTART;TZID=Europe/Berlin:20210919T150000
DTEND;TZID=Europe/Berlin:20210919T170000
LOCATION:Kirchplatz
GEO:52.300052;13.625592
URL;VALUE=URI:https://criticalmass.in/konigs-wusterhausen/kidical-mass-koni
 gs-wusterhausen-september-2021
END:VEVENT
END:VCALENDAR
