BEGIN:VCALENDAR
VERSION:2.0
PRODID:-//Sabre//Sabre VObject 4.5.8//EN
CALSCALE:GREGORIAN
BEGIN:VEVENT
UID:criticalmass-one-koeln-1695470400
DTSTAMP:20260423T135320Z
SUMMARY:Kidical Mass Köln-Porz
DTSTART;TZID=Europe/Berlin:20230923T140000
DTEND;TZID=Europe/Berlin:20230923T160000
LOCATION:Parkplatz Philipp-Reis-Straße
GEO:50.885553;7.060540
URL;VALUE=URI:https://criticalmass.in/koeln/kidical-mass-koeln-porz-septemb
 er-2023
END:VEVENT
END:VCALENDAR
