BEGIN:VCALENDAR
VERSION:2.0
PRODID:-//Sabre//Sabre VObject 4.5.8//EN
CALSCALE:GREGORIAN
BEGIN:VEVENT
UID:criticalmass-one-koeln-1746956400
DTSTAMP:20260421T151546Z
SUMMARY:Kidical Mass Köln Ossendorf 11.05.2025
DESCRIPTION:10:00 Uhr – Gottesdienst in St. Dreikönigen\n(zusammen mit I
 mam Malhi der Ahmadiyya Muslim Gemeinde und Gründer des Friedensfahrradcl
 ubs)\n11:00 Uhr – Segen für alle die mit Rädern auf unseren Straßen u
 nterwegs sind\, vor der Kirche St. Dreikönigen\n11:30 Uhr – ADFC Fahrra
 dtour 25km\, Ziel: Blücherpark\n11:40 - Kidical Mass Familiendemo 8km\, Z
 iel: Blücherpark\n\nAm Sonntag\, 11. Mai um 10 Uhr findet ein Gottesdiens
 t gefolgt von einer Fahrradsegnung in der Kirch St. Dreikönigen in Köln 
 Bickendorf stat. Am Anschluss findet eine geführte Fahrradtour statt.\nEs
  können Fahrräder\, Pedelecs\, Inliner\, Skateboards\, Rollatoren oder a
 uch Kinderwagen gesegnet werden. "Wir wollen uns auf unseren Wegen ganz be
 wusst unter den Segen und Schutz Gottes stellen".\n\nIm Anschluss laden wi
 r herzlich dazu ein\, im idyllischen Blücherpark das mitgebrachte Picknic
 k in geselliger Runde zu genießen.
DTSTART;TZID=Europe/Berlin:20250511T114000
DTEND;TZID=Europe/Berlin:20250511T134000
LOCATION:Köln Ossendorf Weißdornweg 91
GEO:50.962125;6.894965
URL;VALUE=URI:https://criticalmass.in/koeln/kidical-mass-koeln-ossendorf-ma
 i-2025
END:VEVENT
END:VCALENDAR
