BEGIN:VCALENDAR
VERSION:2.0
PRODID:-//Sabre//Sabre VObject 4.5.8//EN
CALSCALE:GREGORIAN
BEGIN:VEVENT
UID:criticalmass-one-koeln-1695559500
DTSTAMP:20260425T013241Z
SUMMARY:Kidical Mass Köln-Mülheim
DTSTART;TZID=Europe/Berlin:20230924T144500
DTEND;TZID=Europe/Berlin:20230924T164500
LOCATION:Montanusstraße 2
GEO:50.957940;7.012496
URL;VALUE=URI:https://criticalmass.in/koeln/kidical-mass-koeln-muelheim-sep
 tember-2023
END:VEVENT
END:VCALENDAR
