BEGIN:VCALENDAR
VERSION:2.0
PRODID:-//Sabre//Sabre VObject 4.5.8//EN
CALSCALE:GREGORIAN
BEGIN:VEVENT
UID:criticalmass-one-koeln-1746967800
DTSTAMP:20260421T182315Z
SUMMARY:Kidical Mass Köln Kalk 11.05.2025
DTSTART;TZID=Europe/Berlin:20250511T145000
DTEND;TZID=Europe/Berlin:20250511T165000
LOCATION:Köln Kalk Stadtgarten Kalk
GEO:50.937889;7.007439
URL;VALUE=URI:https://criticalmass.in/koeln/kidical-mass-koeln-kalk-mai-202
 5
END:VEVENT
END:VCALENDAR
