BEGIN:VCALENDAR
VERSION:2.0
PRODID:-//Sabre//Sabre VObject 4.5.8//EN
CALSCALE:GREGORIAN
BEGIN:VEVENT
UID:criticalmass-one-koeln-1630242000
DTSTAMP:20260421T084141Z
SUMMARY:Kidical Mass Köln
DTSTART;TZID=Europe/Berlin:20210829T150000
DTEND;TZID=Europe/Berlin:20210829T170000
LOCATION:Rudolfplatz
GEO:50.936120;6.939583
URL;VALUE=URI:https://criticalmass.in/koeln/kidical-mass-koeln-august-2021
END:VEVENT
END:VCALENDAR
