BEGIN:VCALENDAR
VERSION:2.0
PRODID:-//Sabre//Sabre VObject 4.5.8//EN
CALSCALE:GREGORIAN
BEGIN:VEVENT
UID:criticalmass-one-koeln-1692979200
DTSTAMP:20260421T083948Z
SUMMARY:Critical Mass Köln 25.08.2023
DTSTART;TZID=Europe/Berlin:20230825T180000
DTEND;TZID=Europe/Berlin:20230825T200000
LOCATION:Rudolfplatz\, Köln
GEO:50.936418;6.940441
URL;VALUE=URI:https://criticalmass.in/koeln/2023-08-25
END:VEVENT
END:VCALENDAR
