BEGIN:VCALENDAR
VERSION:2.0
PRODID:-//Sabre//Sabre VObject 4.5.8//EN
CALSCALE:GREGORIAN
BEGIN:VEVENT
UID:criticalmass-one-koeln-1677258000
DTSTAMP:20260423T051941Z
SUMMARY:Critical Mass Köln 24.02.2023
DTSTART;TZID=Europe/Berlin:20230224T180000
DTEND;TZID=Europe/Berlin:20230224T200000
LOCATION:Rudolfplatz\, Köln
GEO:50.936418;6.940441
URL;VALUE=URI:https://criticalmass.in/koeln/2023-02-24
END:VEVENT
END:VCALENDAR
