BEGIN:VCALENDAR
VERSION:2.0
PRODID:-//Sabre//Sabre VObject 4.5.8//EN
CALSCALE:GREGORIAN
BEGIN:VEVENT
UID:criticalmass-one-koeln-1627660800
DTSTAMP:20260423T143630Z
SUMMARY:Critical Mass Köln 30.07.2021
DTSTART;TZID=Europe/Berlin:20210730T180000
DTEND;TZID=Europe/Berlin:20210730T200000
LOCATION:Rudolfplatz\, Köln
GEO:50.936418;6.940441
URL;VALUE=URI:https://criticalmass.in/koeln/2021-07-30
END:VEVENT
END:VCALENDAR
