BEGIN:VCALENDAR
VERSION:2.0
PRODID:-//Sabre//Sabre VObject 4.5.8//EN
CALSCALE:GREGORIAN
BEGIN:VEVENT
UID:criticalmass-one-koeln-meschenich-1767025800
DTSTAMP:20260423T101351Z
SUMMARY:Critical Mass Köln-Meschenich 29.12.2025
DTSTART;TZID=Europe/Berlin:20251229T173000
DTEND;TZID=Europe/Berlin:20251229T193000
LOCATION:Klosterstraße / Trenkebergstraße
GEO:50.859376;6.928587
URL;VALUE=URI:https://criticalmass.in/koeln-meschenich/2025-12-29
END:VEVENT
END:VCALENDAR
