BEGIN:VCALENDAR
VERSION:2.0
PRODID:-//Sabre//Sabre VObject 4.5.8//EN
CALSCALE:GREGORIAN
BEGIN:VEVENT
UID:criticalmass-one-koeln-meschenich-1708965000
DTSTAMP:20260424T181246Z
SUMMARY:Critical Mass Köln-Meschenich 26.02.2024 - Gegen das Vergessen und
  für die Menschlichkeit
DESCRIPTION:Lasst uns dieses Mal für die Menschlichkeit und gegen das Verg
 essen unterwegs sein ! Antisemitismus\, Rassismus\, und Ausgrenzung jeglic
 her Art dürfen bei uns keinen Platz haben !
DTSTART;TZID=Europe/Berlin:20240226T173000
DTEND;TZID=Europe/Berlin:20240226T193000
LOCATION:Klosterstraße / Trenkebergstraße
GEO:50.859376;6.928587
URL;VALUE=URI:https://criticalmass.in/koeln-meschenich/2024-02-26
END:VEVENT
END:VCALENDAR
