BEGIN:VCALENDAR
VERSION:2.0
PRODID:-//Sabre//Sabre VObject 4.5.8//EN
CALSCALE:GREGORIAN
BEGIN:VEVENT
UID:criticalmass-one-koeln-meschenich-1703521800
DTSTAMP:20260424T110408Z
SUMMARY:Critical Mass Köln-Meschenich 25.12.2023
DTSTART;TZID=Europe/Berlin:20231225T173000
DTEND;TZID=Europe/Berlin:20231225T193000
LOCATION:Klosterstraße / Trenkebergstraße
GEO:50.859376;6.928587
URL;VALUE=URI:https://criticalmass.in/koeln-meschenich/2023-12-25
END:VEVENT
END:VCALENDAR
