BEGIN:VCALENDAR
VERSION:2.0
PRODID:-//Sabre//Sabre VObject 4.5.8//EN
CALSCALE:GREGORIAN
BEGIN:VEVENT
UID:criticalmass-one-koeln-meschenich-1672072200
DTSTAMP:20260425T165243Z
SUMMARY:Critical Mass Köln-Meschenich 26.12.2022
DTSTART;TZID=Europe/Berlin:20221226T173000
DTEND;TZID=Europe/Berlin:20221226T193000
LOCATION:Klosterstraße / Trenkebergstraße
GEO:50.859376;6.928587
URL;VALUE=URI:https://criticalmass.in/koeln-meschenich/2022-12-26
END:VEVENT
END:VCALENDAR
