BEGIN:VCALENDAR
VERSION:2.0
PRODID:-//Sabre//Sabre VObject 4.5.8//EN
CALSCALE:GREGORIAN
BEGIN:VEVENT
UID:criticalmass-one-koeln-meschenich-1664206200
DTSTAMP:20260425T034339Z
SUMMARY:Critical Mass Köln-Meschenich 26.09.2022
DTSTART;TZID=Europe/Berlin:20220926T173000
DTEND;TZID=Europe/Berlin:20220926T193000
LOCATION:Klosterstraße / Trenkebergstraße
GEO:50.859376;6.928587
URL;VALUE=URI:https://criticalmass.in/koeln-meschenich/2022-09-26
END:VEVENT
END:VCALENDAR
