BEGIN:VCALENDAR
VERSION:2.0
PRODID:-//Sabre//Sabre VObject 4.5.8//EN
CALSCALE:GREGORIAN
BEGIN:VEVENT
UID:criticalmass-one-koeln-meschenich-1656343800
DTSTAMP:20260423T113819Z
SUMMARY:Critical Mass Köln-Meschenich 27.06.2022
DTSTART;TZID=Europe/Berlin:20220627T173000
DTEND;TZID=Europe/Berlin:20220627T193000
LOCATION:Klosterstraße / Trenkebergstraße
GEO:50.859376;6.928587
URL;VALUE=URI:https://criticalmass.in/koeln-meschenich/2022-06-27
END:VEVENT
END:VCALENDAR
