BEGIN:VCALENDAR
VERSION:2.0
PRODID:-//Sabre//Sabre VObject 4.5.8//EN
CALSCALE:GREGORIAN
BEGIN:VEVENT
UID:criticalmass-one-koeln-meschenich-1617028200
DTSTAMP:20260423T143800Z
SUMMARY:Critical Mass Köln-Meschenich 29.03.2021
DTSTART;TZID=Europe/Berlin:20210329T163000
DTEND;TZID=Europe/Berlin:20210329T183000
LOCATION:Klosterstraße / Trenkebergstraße
GEO:50.859376;6.928587
URL;VALUE=URI:https://criticalmass.in/koeln-meschenich/2021-03-29
END:VEVENT
END:VCALENDAR
