BEGIN:VCALENDAR
VERSION:2.0
PRODID:-//Sabre//Sabre VObject 4.5.8//EN
CALSCALE:GREGORIAN
BEGIN:VEVENT
UID:criticalmass-one-koeln-meschenich-1567612800
DTSTAMP:20260423T085501Z
SUMMARY:Critical Mass Köln-Meschenich 04.09.2019
DESCRIPTION:https://www.facebook.com/events/451442795398410
DTSTART;TZID=Europe/Berlin:20190904T180000
DTEND;TZID=Europe/Berlin:20190904T200000
LOCATION:Trenkebergstr.\, Am Krütz\, vor dem Alt-Meschenich
URL;VALUE=URI:https://criticalmass.in/koeln-meschenich/2019-09-04
END:VEVENT
END:VCALENDAR
