BEGIN:VCALENDAR
VERSION:2.0
PRODID:-//Sabre//Sabre VObject 4.5.8//EN
CALSCALE:GREGORIAN
BEGIN:VEVENT
UID:criticalmass-one-koeln-meschenich-1565193600
DTSTAMP:20260423T185203Z
SUMMARY:Critical Mass Köln-Meschenich 07.08.2019
DESCRIPTION:https://www.facebook.com/events/451442792065077/?event_time_id=
 451442798731743
DTSTART;TZID=Europe/Berlin:20190807T180000
DTEND;TZID=Europe/Berlin:20190807T200000
LOCATION:Trenkebergstr.\, Am Krütz\, vor dem Alt-Meschenich
GEO:50.859376;6.928587
URL;VALUE=URI:https://criticalmass.in/koeln-meschenich/2019-08-07
END:VEVENT
END:VCALENDAR
