BEGIN:VCALENDAR
VERSION:2.0
PRODID:-//Sabre//Sabre VObject 4.5.8//EN
CALSCALE:GREGORIAN
BEGIN:VEVENT
UID:criticalmass-one-koeln-meschenich-1562169600
DTSTAMP:20260424T015557Z
SUMMARY:Critical Mass Köln-Meschenich 03.07.2019
DTSTART;TZID=Europe/Berlin:20190703T180000
DTEND;TZID=Europe/Berlin:20190703T200000
LOCATION:Trenkebergstr.\, Am Krütz\, vor dem Alt-Meschenich
GEO:50.859376;6.928587
URL;VALUE=URI:https://criticalmass.in/koeln-meschenich/2019-07-03
END:VEVENT
END:VCALENDAR
