BEGIN:VCALENDAR
VERSION:2.0
PRODID:-//Sabre//Sabre VObject 4.5.8//EN
CALSCALE:GREGORIAN
BEGIN:VEVENT
UID:criticalmass-one-koeln-meschenich-1553531400
DTSTAMP:20260424T135000Z
SUMMARY:Critical Mass Köln-Meschenich 25.03.2019
DTSTART;TZID=Europe/Berlin:20190325T173000
DTEND;TZID=Europe/Berlin:20190325T193000
LOCATION:Klosterstraße / Trenkebergstraße
GEO:50.859376;6.928587
URL;VALUE=URI:https://criticalmass.in/koeln-meschenich/2019-03-25
END:VEVENT
END:VCALENDAR
