BEGIN:VCALENDAR
VERSION:2.0
PRODID:-//Sabre//Sabre VObject 4.5.8//EN
CALSCALE:GREGORIAN
BEGIN:VEVENT
UID:criticalmass-one-koeln-meschenich-1537803000
DTSTAMP:20260423T112313Z
SUMMARY:Critical Mass Köln-Meschenich 24.09.2018
DTSTART;TZID=Europe/Berlin:20180924T173000
DTEND;TZID=Europe/Berlin:20180924T193000
LOCATION:Klosterstraße / Trenkebergstraße
GEO:50.859376;6.928587
URL;VALUE=URI:https://criticalmass.in/koeln-meschenich/2018-09-24
END:VEVENT
END:VCALENDAR
