BEGIN:VCALENDAR
VERSION:2.0
PRODID:-//Sabre//Sabre VObject 4.5.8//EN
CALSCALE:GREGORIAN
BEGIN:VEVENT
UID:criticalmass-one-koeln-meschenich-1529940600
DTSTAMP:20260424T121710Z
SUMMARY:Critical Mass Köln-Meschenich 25.06.2018
DTSTART;TZID=Europe/Berlin:20180625T173000
DTEND;TZID=Europe/Berlin:20180625T193000
LOCATION:Klosterstraße / Trenkebergstraße
GEO:50.859376;6.928587
URL;VALUE=URI:https://criticalmass.in/koeln-meschenich/2018-06-25
END:VEVENT
END:VCALENDAR
