BEGIN:VCALENDAR
VERSION:2.0
PRODID:-//Sabre//Sabre VObject 4.5.8//EN
CALSCALE:GREGORIAN
BEGIN:VEVENT
UID:criticalmass-one-koeln-meschenich-1501515000
DTSTAMP:20260424T132533Z
SUMMARY:Critical Mass Köln-Meschenich 31.07.2017
DTSTART;TZID=Europe/Berlin:20170731T173000
DTEND;TZID=Europe/Berlin:20170731T193000
LOCATION:Klosterstraße / Trenkebergstraße
GEO:50.859376;6.928587
URL;VALUE=URI:https://criticalmass.in/koeln-meschenich/2017-07-31
END:VEVENT
END:VCALENDAR
