BEGIN:VCALENDAR
VERSION:2.0
PRODID:-//Sabre//Sabre VObject 4.5.8//EN
CALSCALE:GREGORIAN
BEGIN:VEVENT
UID:criticalmass-one-koeln-meschenich-1498491000
DTSTAMP:20260423T190105Z
SUMMARY:Critical Mass Köln-Meschenich 26.06.2017
DTSTART;TZID=Europe/Berlin:20170626T173000
DTEND;TZID=Europe/Berlin:20170626T193000
LOCATION:Klosterstraße / Trenkebergstraße
GEO:50.859376;6.928587
URL;VALUE=URI:https://criticalmass.in/koeln-meschenich/2017-06-26
END:VEVENT
END:VCALENDAR
