BEGIN:VCALENDAR
VERSION:2.0
PRODID:-//Sabre//Sabre VObject 4.5.8//EN
CALSCALE:GREGORIAN
BEGIN:VEVENT
UID:criticalmass-one-koeln-meschenich-1480339800
DTSTAMP:20260423T085502Z
SUMMARY:Critical Mass Köln-Meschenich 28.11.2016
DTSTART;TZID=Europe/Berlin:20161128T143000
DTEND;TZID=Europe/Berlin:20161128T163000
LOCATION:Klosterstraße / Trenkebergstraße
GEO:50.859376;6.928587
URL;VALUE=URI:https://criticalmass.in/koeln-meschenich/2016-11-28
END:VEVENT
END:VCALENDAR
