BEGIN:VCALENDAR
VERSION:2.0
PRODID:-//Sabre//Sabre VObject 4.5.8//EN
CALSCALE:GREGORIAN
BEGIN:VEVENT
UID:criticalmass-one-koeln-meschenich-1477927800
DTSTAMP:20260423T114119Z
SUMMARY:Critical Mass Köln-Meschenich 31.10.2016
DTSTART;TZID=Europe/Berlin:20161031T163000
DTEND;TZID=Europe/Berlin:20161031T183000
LOCATION:Klosterstraße / Trenkebergstraße
GEO:50.859376;6.928587
URL;VALUE=URI:https://criticalmass.in/koeln-meschenich/2016-10-31
END:VEVENT
END:VCALENDAR
