BEGIN:VCALENDAR
VERSION:2.0
PRODID:-//Sabre//Sabre VObject 4.5.8//EN
CALSCALE:GREGORIAN
BEGIN:VEVENT
UID:criticalmass-one-koeln-meschenich-1469460600
DTSTAMP:20260423T085514Z
SUMMARY:Critical Mass Köln-Meschenich 25.07.2016
DTSTART;TZID=Europe/Berlin:20160725T173000
DTEND;TZID=Europe/Berlin:20160725T193000
LOCATION:Klosterstraße / Trenkebergstraße
GEO:50.859376;6.928587
URL;VALUE=URI:https://criticalmass.in/koeln-meschenich/2016-07-25
END:VEVENT
END:VCALENDAR
