BEGIN:VCALENDAR
VERSION:2.0
PRODID:-//Sabre//Sabre VObject 4.5.8//EN
CALSCALE:GREGORIAN
BEGIN:VEVENT
UID:criticalmass-one-koeln-meschenich-1432567800
DTSTAMP:20260426T022022Z
SUMMARY:Critical Mass Köln-Meschenich 25.05.2015
DTSTART;TZID=Europe/Berlin:20150525T173000
DTEND;TZID=Europe/Berlin:20150525T193000
LOCATION:Klosterstraße / Trenkebergstraße
GEO:50.859376;6.928587
URL;VALUE=URI:https://criticalmass.in/koeln-meschenich/2015-05-25
END:VEVENT
END:VCALENDAR
