BEGIN:VCALENDAR
VERSION:2.0
PRODID:-//Sabre//Sabre VObject 4.5.8//EN
CALSCALE:GREGORIAN
BEGIN:VEVENT
UID:criticalmass-one-koeln-meschenich-1408980600
DTSTAMP:20260423T130034Z
SUMMARY:Critical Mass Köln-Meschenich 25.08.2014
DTSTART;TZID=Europe/Berlin:20140825T173000
DTEND;TZID=Europe/Berlin:20140825T193000
LOCATION:Klosterstraße / Trenkebergstraße
GEO:50.859376;6.928587
URL;VALUE=URI:https://criticalmass.in/koeln-meschenich/2014-08-25
END:VEVENT
END:VCALENDAR
