BEGIN:VCALENDAR
VERSION:2.0
PRODID:-//Sabre//Sabre VObject 4.5.8//EN
CALSCALE:GREGORIAN
BEGIN:VEVENT
UID:criticalmass-one-koeln-meschenich-1404142200
DTSTAMP:20260423T113801Z
SUMMARY:Critical Mass Köln-Meschenich 30.06.2014
DTSTART;TZID=Europe/Berlin:20140630T173000
DTEND;TZID=Europe/Berlin:20140630T193000
LOCATION:Klosterstraße / Trenkebergstraße
GEO:50.859376;6.928587
URL;VALUE=URI:https://criticalmass.in/koeln-meschenich/2014-06-30
END:VEVENT
END:VCALENDAR
