BEGIN:VCALENDAR
VERSION:2.0
PRODID:-//Sabre//Sabre VObject 4.5.8//EN
CALSCALE:GREGORIAN
BEGIN:VEVENT
UID:criticalmass-one-koeln-meschenich-1396279800
DTSTAMP:20260425T164939Z
SUMMARY:Critical Mass Köln-Meschenich 31.03.2014
DTSTART;TZID=Europe/Berlin:20140331T173000
DTEND;TZID=Europe/Berlin:20140331T193000
LOCATION:Klosterstraße / Trenkebergstraße
GEO:50.859376;6.928587
URL;VALUE=URI:https://criticalmass.in/koeln-meschenich/2014-03-31
END:VEVENT
END:VCALENDAR
