BEGIN:VCALENDAR
VERSION:2.0
PRODID:-//Sabre//Sabre VObject 4.5.8//EN
CALSCALE:GREGORIAN
BEGIN:VEVENT
UID:criticalmass-one-koblenz-1764865800
DTSTAMP:20260425T152003Z
SUMMARY:Critical Mass Koblenz 04.12.2025
DTSTART;TZID=Europe/Berlin:20251204T173000
DTEND;TZID=Europe/Berlin:20251204T193000
LOCATION:Löhrrondell
GEO:50.357153;7.591403
URL;VALUE=URI:https://criticalmass.in/koblenz/2025-12-04
END:VEVENT
END:VCALENDAR
