BEGIN:VCALENDAR
VERSION:2.0
PRODID:-//Sabre//Sabre VObject 4.5.8//EN
CALSCALE:GREGORIAN
BEGIN:VEVENT
UID:criticalmass-one-koblenz-1754580600
DTSTAMP:20260426T030458Z
SUMMARY:Critical Mass Koblenz 07.08.2025
DTSTART;TZID=Europe/Berlin:20250807T173000
DTEND;TZID=Europe/Berlin:20250807T193000
LOCATION:Löhrrondell
GEO:50.357153;7.591403
URL;VALUE=URI:https://criticalmass.in/koblenz/2025-08-07
END:VEVENT
END:VCALENDAR
