BEGIN:VCALENDAR
VERSION:2.0
PRODID:-//Sabre//Sabre VObject 4.5.8//EN
CALSCALE:GREGORIAN
BEGIN:VEVENT
UID:criticalmass-one-koblenz-1709829000
DTSTAMP:20260425T181841Z
SUMMARY:Critical Mass Koblenz 07.03.2024
DTSTART;TZID=Europe/Berlin:20240307T173000
DTEND;TZID=Europe/Berlin:20240307T193000
LOCATION:Löhrrondell
GEO:50.357153;7.591403
URL;VALUE=URI:https://criticalmass.in/koblenz/2024-03-07
END:VEVENT
END:VCALENDAR
