BEGIN:VCALENDAR
VERSION:2.0
PRODID:-//Sabre//Sabre VObject 4.5.8//EN
CALSCALE:GREGORIAN
BEGIN:VEVENT
UID:criticalmass-one-koblenz-1620315000
DTSTAMP:20260425T164819Z
SUMMARY:Critical Mass Koblenz 06.05.2021
DTSTART;TZID=Europe/Berlin:20210506T173000
DTEND;TZID=Europe/Berlin:20210506T193000
LOCATION:Löhrrondell
GEO:50.357153;7.591403
URL;VALUE=URI:https://criticalmass.in/koblenz/2021-05-06
END:VEVENT
END:VCALENDAR
