BEGIN:VCALENDAR
VERSION:2.0
PRODID:-//Sabre//Sabre VObject 4.5.8//EN
CALSCALE:GREGORIAN
BEGIN:VEVENT
UID:criticalmass-one-koblenz-1612456200
DTSTAMP:20260425T164727Z
SUMMARY:Critical Mass Koblenz 04.02.2021
DTSTART;TZID=Europe/Berlin:20210204T173000
DTEND;TZID=Europe/Berlin:20210204T193000
LOCATION:Löhrrondell
GEO:50.357153;7.591403
URL;VALUE=URI:https://criticalmass.in/koblenz/2021-02-04
END:VEVENT
END:VCALENDAR
