BEGIN:VCALENDAR
VERSION:2.0
PRODID:-//Sabre//Sabre VObject 4.5.8//EN
CALSCALE:GREGORIAN
BEGIN:VEVENT
UID:criticalmass-one-kirchheim-unter-teck-1727614800
DTSTAMP:20260425T203535Z
SUMMARY:Kidical Mass Kirchheim unter Teck 29.09.2024
DTSTART;TZID=Europe/Berlin:20240929T150000
DTEND;TZID=Europe/Berlin:20240929T170000
LOCATION:Kirchheim unter Teck Stadtbücherei\, Max-Eyth-Straße 16
GEO:48.648622;9.449890
URL;VALUE=URI:https://criticalmass.in/kirchheim-unter-teck/kidical-mass-kir
 chheim-unter-teck-september-2024
END:VEVENT
END:VCALENDAR
